BEGIN:VCALENDAR
VERSION:2.0
PRODID:-//Westonsecondary - ECPv6.15.20//NONSGML v1.0//EN
CALSCALE:GREGORIAN
METHOD:PUBLISH
X-ORIGINAL-URL:https://westonsecondary.co.uk
X-WR-CALDESC:Events for Westonsecondary
REFRESH-INTERVAL;VALUE=DURATION:PT1H
X-Robots-Tag:noindex
X-PUBLISHED-TTL:PT1H
BEGIN:VTIMEZONE
TZID:Europe/London
BEGIN:DAYLIGHT
TZOFFSETFROM:+0000
TZOFFSETTO:+0100
TZNAME:BST
DTSTART:20230326T010000
END:DAYLIGHT
BEGIN:STANDARD
TZOFFSETFROM:+0100
TZOFFSETTO:+0000
TZNAME:GMT
DTSTART:20231029T010000
END:STANDARD
BEGIN:DAYLIGHT
TZOFFSETFROM:+0000
TZOFFSETTO:+0100
TZNAME:BST
DTSTART:20240331T010000
END:DAYLIGHT
BEGIN:STANDARD
TZOFFSETFROM:+0100
TZOFFSETTO:+0000
TZNAME:GMT
DTSTART:20241027T010000
END:STANDARD
BEGIN:DAYLIGHT
TZOFFSETFROM:+0000
TZOFFSETTO:+0100
TZNAME:BST
DTSTART:20250330T010000
END:DAYLIGHT
BEGIN:STANDARD
TZOFFSETFROM:+0100
TZOFFSETTO:+0000
TZNAME:GMT
DTSTART:20251026T010000
END:STANDARD
END:VTIMEZONE
BEGIN:VEVENT
DTSTART;VALUE=DATE:20241001
DTEND;VALUE=DATE:20241101
DTSTAMP:20260420T003049
CREATED:20240823T124830Z
LAST-MODIFIED:20241031T232602Z
UID:10000036-1727740800-1730419199@westonsecondary.co.uk
SUMMARY:Black History Month
DESCRIPTION:
URL:https://westonsecondary.co.uk/event/black-history-month/
END:VEVENT
BEGIN:VEVENT
DTSTART;VALUE=DATE:20241007
DTEND;VALUE=DATE:20241012
DTSTAMP:20260420T003049
CREATED:20240823T124830Z
LAST-MODIFIED:20241011T231205Z
UID:10000038-1728259200-1728691199@westonsecondary.co.uk
SUMMARY:Week B
DESCRIPTION:
URL:https://westonsecondary.co.uk/event/week-b-3/
END:VEVENT
BEGIN:VEVENT
DTSTART;TZID=Europe/London:20241010T153000
DTEND;TZID=Europe/London:20241010T183000
DTSTAMP:20260420T003049
CREATED:20240823T124830Z
LAST-MODIFIED:20241010T171043Z
UID:10000039-1728574200-1728585000@westonsecondary.co.uk
SUMMARY:Meet the Tutor Evening (Year 7)
DESCRIPTION:
URL:https://westonsecondary.co.uk/event/meet-the-tutor-evening-year-7/
END:VEVENT
END:VCALENDAR